BEGIN:VCALENDAR
VERSION:2.0
PRODID:-//ChamberMaster//Event Calendar 2.0//EN
METHOD:PUBLISH
X-PUBLISHED-TTL:P3D
REFRESH-INTERVAL:P3D
CALSCALE:GREGORIAN
BEGIN:VEVENT
DTSTART:20220106T200000Z
DTEND:20220106T210000Z
X-MICROSOFT-CDO-ALLDAYEVENT:FALSE
SUMMARY:Ribbon Cutting - Cattlemen's on Rte 66
DESCRIPTION:Come out and join the Barstow Chamber of Commerce as we welcome Cattlemen's on Rte 66 with a Ribbon Cutting.\n\n\n\nCattlemen's on Rte 66 is a fine dining experience...without a dress code.\n\n\n\nCattlemen's on Rte 66 also has a complete bar with an extensive wine selection.
X-ALT-DESC;FMTTYPE=text/html:Come out and join the Barstow Chamber of Commerce as we welcome Cattlemen&#39\;s on Rte 66 with a Ribbon Cutting.<br />\n<br />\nCattlemen&#39\;s on Rte 66 is a fine dining experience...without a dress code.<br />\n<br />\nCattlemen&#39\;s on Rte 66 also has a complete bar with an extensive wine selection.
LOCATION:Cattlemen's on Rte 66 1523 East Main Street Barstow\, CA 92311
UID:e.2819.6362
SEQUENCE:3
DTSTAMP:20260425T235300Z
URL:http://business.barstowchamber.com/events/details/ribbon-cutting-cattlemen-s-on-rte-66-6362
END:VEVENT

END:VCALENDAR
