BEGIN:VCALENDAR
VERSION:2.0
PRODID:-//ChamberMaster//Event Calendar 2.0//EN
METHOD:PUBLISH
X-PUBLISHED-TTL:P3D
REFRESH-INTERVAL:P3D
CALSCALE:GREGORIAN
BEGIN:VEVENT
DTSTART:20220427T200000Z
DTEND:20220427T223000Z
X-MICROSOFT-CDO-ALLDAYEVENT:FALSE
SUMMARY:Mobile Office - California State Assemblyman Thurston "Smitty" Smith
DESCRIPTION:APPLE VALLEY\, CA   Assemblymember Thurston "Smitty" Smith\, who represents the mountain communities in San Bernardino County in the State Legislature\, announced that his office will be hosting mobile office hours in the community of Barstow.  \n\n \n\nAssemblyman Smith's office can help constituents with an array of state issues\, including the Employment Development Department (EDD)\, the Department of Motor Vehicles (DMV)\, and the Department of Consumer Affairs. His field representatives can also discuss questions they have regarding current legislative proposals.\n\n \n\nMore information about mobile office hours can be found below.\n\n \n\nWednesday\, April 27\, 2022 \n\n1:00PM   3:30PM\n\n \n\nBarstow Chamber of Commerce\n\n229 E. Main Street\n\nBarstow\, CA 92311\n\n \n\nFor any additional questions regarding mobile office hours\, please contact Miriam Munoz in Assemblyman Smith's district office at (760) 244-5277.
X-ALT-DESC;FMTTYPE=text/html:<span style="font-size:12.0pt\;">APPLE VALLEY\, CA </span><span style="font-size:12.0pt\;">&ndash\; Assemblymember Thurston &ldquo\;Smitty&rdquo\; Smith\, who represents the mountain communities in San Bernardino County in the State Legislature\, announced that his office will be hosting mobile office hours in the community of Barstow. &nbsp\;</span><br />\n&nbsp\;<br />\n<span style="font-size:12.0pt\;">Assemblyman Smith&rsquo\;s office can help constituents with an array of state issues\, including the Employment Development Department (EDD)\, the Department of Motor Vehicles (DMV)\, and the Department of Consumer Affairs. His field representatives can also discuss questions they have regarding current legislative proposals.</span><br />\n&nbsp\;<br />\n<span style="font-size:12.0pt\;">More information about mobile office hours can be found below.</span><br />\n&nbsp\;<br />\n<strong><span style="font-size:12.0pt\;">Wednesday\, April 27\, 2022 </span></strong><br />\n<span style="font-size:12.0pt\;">1:00PM &ndash\; 3:30PM</span><br />\n&nbsp\;<br />\n<strong><span style="font-size:12.0pt\;">Barstow Chamber of Commerce</span></strong><br />\n<span style="font-size:12.0pt\;">229 E. Main Street</span><br />\n<span style="font-size:12.0pt\;">Barstow\, CA 92311</span><br />\n&nbsp\;<br />\n<span style="font-size:12.0pt\;">For any additional questions regarding mobile office hours\, please contact Miriam Munoz in Assemblyman Smith&rsquo\;s district office at (760) 244-5277.</span>
LOCATION:Barstow Chamber of Commerce 229 East Main Street Barstow\, CA 92311
UID:e.2819.6475
SEQUENCE:3
DTSTAMP:20260423T085737Z
URL:http://business.barstowchamber.com/events/details/mobile-office-california-state-assemblyman-thurston-smitty-smith-6475
END:VEVENT

END:VCALENDAR
