BEGIN:VCALENDAR
VERSION:2.0
PRODID:-//ChamberMaster//Event Calendar 2.0//EN
METHOD:PUBLISH
X-PUBLISHED-TTL:P3D
REFRESH-INTERVAL:P3D
CALSCALE:GREGORIAN
BEGIN:VEVENT
DTSTART:20220306T030000Z
DTEND:20220306T070000Z
X-MICROSOFT-CDO-ALLDAYEVENT:FALSE
SUMMARY:Mardi Gras "Taste of the Bayou"
DESCRIPTION:The Taste of the Bayou Mardi Gras event is fast approaching! I promise that nowhere else in the desert will you get the essence of New Orleans through taste and sound than at this event! And did we mention the fun games and prizes?\n\n\n\nTicket price includes your dinner of Jambalaya\, Roast Beef Po Boy\, crawfish boil\, beignets\, bananas foster and a signature Hurricane drink. Also included is your first $25.00 of play money for the games.\n\n\n\nPrizes available include 3 night stay at the Wynn\, Tequila gift baskets\, Wine gift baskets\, laptops and so much more.\n\n\n\nA cigar bar will be available for purchase separately with a cigar lounge. \n\n\n\nAnd don't forget your dancing shoes as New Orleans recording artist Ray Brooks and the Bluzmasters plays some great tunes and DJ Tony plays Zydeco that will take you straight to the French Quarter. \n\n\n\nAll money raised will be used to support your local Army\, Marines\, Gold Star families and Veterans right here in your own area.
X-ALT-DESC;FMTTYPE=text/html:<div style="font-family: inherit\;">\n<div class="cwj9ozl2 qbxu24ho bxzzcbxg lxuwth05 h2mp5456 ue3kfks5 pw54ja7n uo3d90p7 l82x9zwi goun2846 ccm00jje s44p3ltw mk2mc5f4 frvqaej8 ed0hlay0 afxsp9o4 jcgfde61 tvfksri0 ozuftl9m" style="border-width: 1px\; border-right-color: var(--divider)\; border-style: solid\; border-left-color: var(--divider)\; border-bottom-color: var(--divider)\; border-top-color: var(--divider)\; border-radius: 8px\; margin-left: 12px\; margin-right: 12px\; font-family: inherit\;">\n<div style="font-family: inherit\;">\n<div class="hqeojc4l" style="margin-top: -1px\; font-family: inherit\;">\n<div dir="auto" style="font-family: inherit\;">\n<div dir="auto" style="font-family: inherit\;">\n<div class="ecm0bbzt hv4rvrfc ihqw7lf3 dati1w0a" data-ad-comet-preview="message" data-ad-preview="message" style="padding: 4px 16px 16px\; font-family: inherit\;">\n<div class="j83agx80 cbu4d94t ew0dbk1b irj2b8pg" style="flex-direction: column\; margin-bottom: -5px\; margin-top: -5px\; display: flex\; font-family: inherit\;">\n<div class="qzhwtbm6 knvmm38d" style="margin-top: 5px\; margin-bottom: 5px\; font-family: inherit\;">\n<div class="kvgmc6g5 cxmmr5t8 oygrvhab hcukyx3x c1et5uql ii04i59q" style="overflow-wrap: break-word\; margin: 0px\; white-space: pre-wrap\; font-family: inherit\;">\n<div dir="auto" style="font-family: inherit\;"><span class="d2edcug0 hpfvmrgz qv66sw1b c1et5uql lr9zc1uh a8c37x1j fe6kdd0r mau55g9w c8b282yb keod5gw0 nxhoafnm aigsh9s9 d3f4x2em iv3no6db jq4qci2q a3bd9o3v b1v8xokw oo9gr5id hzawbc8m" dir="auto" style="line-height: 1.3333\; display: block\; overflow-wrap: break-word\; max-width: 100%\; min-width: 0px\; font-size: 0.9375rem\; font-family: inherit\; color: var(--primary-text)\; word-break: break-word\;">The Taste of the Bayou Mardi Gras event is fast approaching! I promise that nowhere else in the desert will you get the essence of New Orleans through taste and sound than at this event! And did we mention the fun games and prizes?<br />\n<br />\nTicket price includes your dinner of Jambalaya\, Roast Beef Po Boy\, crawfish boil\, beignets\, bananas foster and a signature Hurricane drink. Also included is your first $25.00 of play money for the games.<br />\n<br />\nPrizes available include 3 night stay at the Wynn\, Tequila gift baskets\, Wine gift baskets\, laptops and so much more.</span></div>\n</div>\n\n<div class="cxmmr5t8 oygrvhab hcukyx3x c1et5uql o9v6fnle ii04i59q" style="overflow-wrap: break-word\; margin: 0.5em 0px 0px\; white-space: pre-wrap\; font-family: inherit\;">\n<div dir="auto" style="font-family: inherit\;"><span class="d2edcug0 hpfvmrgz qv66sw1b c1et5uql lr9zc1uh a8c37x1j fe6kdd0r mau55g9w c8b282yb keod5gw0 nxhoafnm aigsh9s9 d3f4x2em iv3no6db jq4qci2q a3bd9o3v b1v8xokw oo9gr5id hzawbc8m" dir="auto" style="line-height: 1.3333\; display: block\; overflow-wrap: break-word\; max-width: 100%\; min-width: 0px\; font-size: 0.9375rem\; font-family: inherit\; color: var(--primary-text)\; word-break: break-word\;">A cigar bar will be available for purchase separately with a cigar lounge. </span></div>\n</div>\n\n<div class="cxmmr5t8 oygrvhab hcukyx3x c1et5uql o9v6fnle ii04i59q" style="overflow-wrap: break-word\; margin: 0.5em 0px 0px\; white-space: pre-wrap\; font-family: inherit\;">\n<div dir="auto" style="font-family: inherit\;"><span class="d2edcug0 hpfvmrgz qv66sw1b c1et5uql lr9zc1uh a8c37x1j fe6kdd0r mau55g9w c8b282yb keod5gw0 nxhoafnm aigsh9s9 d3f4x2em iv3no6db jq4qci2q a3bd9o3v b1v8xokw oo9gr5id hzawbc8m" dir="auto" style="line-height: 1.3333\; display: block\; overflow-wrap: break-word\; max-width: 100%\; min-width: 0px\; font-size: 0.9375rem\; font-family: inherit\; color: var(--primary-text)\; word-break: break-word\;">And don&#39\;t forget your dancing shoes as New Orleans recording artist Ray Brooks and the Bluzmasters plays some great tunes and DJ Tony plays Zydeco that will take you straight to the French Quarter. </span></div>\n</div>\n\n<div class="cxmmr5t8 oygrvhab hcukyx3x c1et5uql o9v6fnle ii04i59q" style="overflow-wrap: break-word\; margin: 0.5em 0px 0px\; white-space: pre-wrap\; font-family: inherit\;">\n<div dir="auto" style="font-family: inherit\;"><span class="d2edcug0 hpfvmrgz qv66sw1b c1et5uql lr9zc1uh a8c37x1j fe6kdd0r mau55g9w c8b282yb keod5gw0 nxhoafnm aigsh9s9 d3f4x2em iv3no6db jq4qci2q a3bd9o3v b1v8xokw oo9gr5id hzawbc8m" dir="auto" style="line-height: 1.3333\; display: block\; overflow-wrap: break-word\; max-width: 100%\; min-width: 0px\; font-size: 0.9375rem\; font-family: inherit\; color: var(--primary-text)\; word-break: break-word\;">All money raised will be used to support your local Army\, Marines\, Gold Star families and Veterans right here in your own area.</span></div>\n</div>\n</div>\n</div>\n</div>\n</div>\n</div>\n</div>\n</div>\n</div>\n</div>\n\n<div class="ecm0bbzt aglmviwh dati1w0a ihqw7lf3 def1xbws mkjtxrlb o9f14d3k hqeojc4l i1fnvgqd lhclo0ds btwxx1t3 j83agx80 l6v480f0 s1tcr66n bq4bzpyk" style="border-top: 1px solid var(--divider)\; border-bottom: 1px solid var(--divider)\; padding: 4px 14px 16px 16px\; place-content: flex-start space-between\; flex-flow: row wrap\; margin: -1px\; display: flex\; font-family: inherit\;">\n<div class="oajrlxb2 g5ia77u1 qu0x051f esr5mh6w e9989ue4 r7d6kgcz rq0escxv nhd2j8a9 nc684nl6 p7hjln8o kvgmc6g5 cxmmr5t8 oygrvhab hcukyx3x jb3vyjys rz4wbd8a qt6c0cv9 a8nywdso i1ao9s8h esuyzwwr f1sip0of n00je7tq arfg74bv qs9ysxi8 k77z8yql l9j0dhe7 abiwlrkh p8dawk7l lzcic4wl" role="button" style="outline: none\; list-style: none\; border-width: 0px\; border-style: initial\; border-color: initial\; padding: 0px\; user-select: none\; border-radius: inherit\; margin: 0px\; touch-action: manipulation\; text-align: inherit\; position: relative\; display: inline\; cursor: pointer\; -webkit-tap-highlight-color: transparent\; box-sizing: border-box\; font-family: inherit\;" tabindex="0">\n<div class="n8tt0mok n1l5q3vz" style="margin-top: 12px\; padding-right: 2px\; font-family: inherit\;">\n<div class="j83agx80 cbu4d94t ew0dbk1b irj2b8pg" style="flex-direction: column\; margin-bottom: -5px\; margin-top: -5px\; display: flex\; font-family: inherit\;">\n<div class="qzhwtbm6 knvmm38d" style="margin-top: 5px\; margin-bottom: 5px\; font-family: inherit\;">&nbsp\;</div>\n</div>\n</div>\n</div>\n</div>\n\n<div style="font-family: inherit\;">\n<div class="stjgntxs ni8dbmo4 l82x9zwi uo3d90p7 h905i5nu monazrh9" data-visualcompletion="ignore-dynamic" style="border-radius: 0px 0px 8px 8px\; overflow: hidden\; font-family: inherit\;">\n<div style="font-family: inherit\;">\n<div style="font-family: &quot\;Segoe UI Historic&quot\;\, &quot\;Segoe UI&quot\;\, Helvetica\, Arial\, sans-serif\; color: rgb(28\, 30\, 33)\; font-size: 12px\; background-color: rgb(255\, 255\, 255)\;">\n<div style="font-family: inherit\;">\n<div class="tvfksri0 ozuftl9m" style="margin-left: 12px\; margin-right: 12px\; font-family: inherit\;">\n<div class="rq0escxv l9j0dhe7 du4w35lb j83agx80 pfnyh3mw i1fnvgqd gs1a9yip owycx6da btwxx1t3 ph5uu5jm b3onmgus e5nlhep0 ecm0bbzt nkwizq5d roh60bw9 mysgfdmx hddg9phg" style="padding: 4px\; flex-flow: row nowrap\; z-index: 0\; align-items: stretch\; margin: -6px -2px\; justify-content: space-between\; display: flex\; position: relative\; flex-shrink: 0\; box-sizing: border-box\; font-family: inherit\;">\n<div class="rq0escxv l9j0dhe7 du4w35lb j83agx80 cbu4d94t d2edcug0 hpfvmrgz rj1gh0hx buofh1pr g5gj957u n8tt0mok hyh9befq iuny7tx3 ipjc6fyt" style="flex: 1 1 0px\; flex-direction: column\; max-width: 100%\; z-index: 0\; min-width: 0px\; padding: 6px 2px\; display: flex\; position: relative\; box-sizing: border-box\; font-family: inherit\;">\n<div aria-label="Send this to friends or post it on your timeline." class="oajrlxb2 gs1a9yip g5ia77u1 mtkw9kbi tlpljxtp qensuy8j ppp5ayq2 goun2846 ccm00jje s44p3ltw mk2mc5f4 rt8b4zig n8ej3o3l agehan2d sk4xxmp2 rq0escxv nhd2j8a9 mg4g778l pfnyh3mw p7hjln8o kvgmc6g5 cxmmr5t8 oygrvhab hcukyx3x tgvbjcpo hpfvmrgz jb3vyjys rz4wbd8a qt6c0cv9 a8nywdso l9j0dhe7 i1ao9s8h esuyzwwr f1sip0of du4w35lb n00je7tq arfg74bv qs9ysxi8 k77z8yql pq6dq46d btwxx1t3 abiwlrkh p8dawk7l lzcic4wl" role="button" style="outline: none\; list-style: none\; border-width: 0px\; border-style: solid\; border-top-color: var(--always-dark-overlay)\; border-left-color: var(--always-dark-overlay)\; border-bottom-color: var(--always-dark-overlay)\; border-right-color: var(--always-dark-overlay)\; padding: 0px\; user-select: none\; border-radius: inherit\; flex-direction: row\; margin: 0px\; z-index: 0\; touch-action: manipulation\; background-color: transparent\; align-items: stretch\; min-width: 0px\; text-align: inherit\; position: relative\; flex-basis: auto\; cursor: pointer\; -webkit-tap-highlight-color: transparent\; flex-shrink: 0\; display: inline-flex\; box-sizing: border-box\; min-height: 0px\; font-family: inherit\;" tabindex="0">\n<div class="n00je7tq arfg74bv qs9ysxi8 k77z8yql i09qtzwb n7fi1qx3 b5wmifdl hzruof5a pmk7jnqg j9ispegn kr520xx4 c5ndavph art1omkt ot9fgl3s rnr61an3" data-visualcompletion="ignore" style="border-radius: 4px\; transition-property: opacity\; opacity: 0\; transition-duration: var(--fds-duration-extra-extra-short-out)\; pointer-events: none\; inset: 0px\; transition-timing-function: var(--fds-animation-fade-out)\; position: absolute\; background-color: var(--hover-overlay)\; font-family: inherit\;">&nbsp\;</div>\n</div>\n</div>\n</div>\n</div>\n</div>\n</div>\n\n<div class="cwj9ozl2 tvmbv18p" style="margin-bottom: 4px\; font-family: &quot\;Segoe UI Historic&quot\;\, &quot\;Segoe UI&quot\;\, Helvetica\, Arial\, sans-serif\; color: rgb(28\, 30\, 33)\; font-size: 12px\;">&nbsp\;</div>\n</div>\n</div>\n</div>\n
LOCATION:Cora Harper Community Center 841 Barstow Road Barstow\, California 92311
UID:e.2819.6366
SEQUENCE:3
DTSTAMP:20260425T212203Z
URL:http://business.barstowchamber.com/events/details/mardi-gras-taste-of-the-bayou-6366
END:VEVENT

END:VCALENDAR
