BEGIN:VCALENDAR
VERSION:2.0
PRODID:-//ChamberMaster//Event Calendar 2.0//EN
METHOD:PUBLISH
X-PUBLISHED-TTL:P3D
REFRESH-INTERVAL:P3D
CALSCALE:GREGORIAN
BEGIN:VEVENT
DTSTART:20220325T003000Z
DTEND:20220325T020000Z
X-MICROSOFT-CDO-ALLDAYEVENT:FALSE
SUMMARY:Evening Mixer
DESCRIPTION:Kick-off the the new year and first   evening networking affair with some great food and drinks at one of Barstow's  iconic restaurants\,                        Los Domingos\n\nNow that we have entered the "new normal"\, this is a great time to become reacquainted with fellow chamber members\, and welcome our newest members!
X-ALT-DESC;FMTTYPE=text/html:<span style="font-family:times new roman\;"><span style="color:#696969\;"><span style="font-weight:bold\;language:en-US\;"><span style="font-size:22.0pt\;">Kick-off the the new year and first&nbsp\;&nbsp\; evening networking affair with some great food and drinks at one of Barstow&rsquo\;s&nbsp\; iconic restaurants\,&nbsp\; &nbsp\; &nbsp\; &nbsp\; &nbsp\; &nbsp\; &nbsp\; &nbsp\; &nbsp\; &nbsp\; &nbsp\; &nbsp\;&nbsp\;</span></span><span style="font-weight:bold\;language:en-US\;"><span style="font-size:28.0pt\;">Los Domingos</span></span><br />\n<span style="font-weight:bold\;language:en-US\;"><span style="font-size:22.0pt\;">Now that we have entered the &ldquo\;new normal&rdquo\;\, this is a great time to become reacquainted with fellow chamber members\, and welcome our newest members!</span></span></span></span><br />\n&nbsp\;
LOCATION:Los Domingos Restaurant 1520 East Main Street Barstow\, California 92311
UID:e.2819.6458
SEQUENCE:3
DTSTAMP:20260423T135331Z
URL:http://business.barstowchamber.com/events/details/evening-mixer-6458
END:VEVENT

END:VCALENDAR
