BEGIN:VCALENDAR
VERSION:2.0
PRODID:-//ChamberMaster//Event Calendar 2.0//EN
METHOD:PUBLISH
X-PUBLISHED-TTL:P3D
REFRESH-INTERVAL:P3D
CALSCALE:GREGORIAN
BEGIN:VEVENT
DTSTART:20220330T150000Z
DTEND:20220330T160000Z
X-MICROSOFT-CDO-ALLDAYEVENT:FALSE
SUMMARY:Economic Development Committee
DESCRIPTION:The BACC Economic Development Committee is committed to promoting business development and economic growth through advocacy\, education\, innovation\, and collaboration.  The committee will serve as a conduit between the business community and the municipal government\; working as partners to develop a neutral climate and provide a forum where all members can contribute. We are dedicated to creating a more vibrant and proud community by encouraging the businesses and residents to seek available services and resources in an effort to improve the aesthetics and the quality of life in the City of Barstow.
X-ALT-DESC;FMTTYPE=text/html:<em><span style="font-family:arial\,sans-serif\;">The BACC Economic Development Committee is committed to promoting business development and economic growth through advocacy\, education\, innovation\, and collaboration.&nbsp\; The committee will serve as a conduit between the business community and the municipal government\; working as partners to develop a neutral climate and provide a forum where all members can contribute. We are dedicated to creating a more vibrant and proud community by encouraging the businesses and residents to seek available services and resources in an effort to improve the aesthetics and the quality of life in the City of Barstow.</span></em>
LOCATION:Hi there\, Dr.Crystal Nasio\, Barstow CC is inviting you to a scheduled Zoom meeting. Join Zoom Meeting One tap mobile: US: +16699006833\,\,96031650985# or +13462487799\,\,96031650985# Meeting URL: https://barstow-edu.zoom.us/j/96031650985?from=addon Meeting ID: 960 3165 0985 Join by Telephone For higher quality\, dial a number based on your current location. Dial: US: +1 669 900 6833 or +1 346 248 7799 or +1 253 215 8782 or +1 929 205 6099 or +1 301 715 8592 or +1 312 626 6799 Meeting ID: 960 3165 0985 International numbers
UID:e.2819.6403
SEQUENCE:3
DTSTAMP:20260424T124629Z
URL:http://business.barstowchamber.com/events/details/economic-development-committee-03-30-2022-6403
END:VEVENT

END:VCALENDAR
