BEGIN:VCALENDAR
VERSION:2.0
PRODID:-//ChamberMaster//Event Calendar 2.0//EN
METHOD:PUBLISH
X-PUBLISHED-TTL:P3D
REFRESH-INTERVAL:P3D
CALSCALE:GREGORIAN
BEGIN:VEVENT
DTSTART:20220209T170000Z
DTEND:20220209T210000Z
X-MICROSOFT-CDO-ALLDAYEVENT:FALSE
SUMMARY:Barstow Job Fair and Hiring Event Clear your criminal record\, if eligible
DESCRIPTION:More than 40 employers on site!\n\nEmployers include:\n\n	Barstow Community Hospital\n	Barstow Unified School District\n	Barstow Community College\n	California Highway Patrol\n	Highway Radio / Heftel Broadcasting\n	U.S. Army\n	New Hope Village\n	MP Materials\n	MORE EMPLOYERS ARE ADDED DAILY!\n\nCOVID-19 Vaccinations will be available
X-ALT-DESC;FMTTYPE=text/html:<strong>More than 40 employers on site!</strong><br>\nEmployers include:\n<ul>\n	<li>Barstow Community Hospital</li>\n	<li>Barstow Unified School District</li>\n	<li>Barstow Community College</li>\n	<li>California Highway Patrol</li>\n	<li>Highway Radio / Heftel Broadcasting</li>\n	<li>U.S. Army</li>\n	<li>New Hope Village</li>\n	<li>MP Materials</li>\n	<li>MORE EMPLOYERS ARE ADDED DAILY!</li>\n</ul>\nCOVID-19 Vaccinations will be available
LOCATION:Cora Harper Community Center 841 Barstow Road Barstow\, California 92311
UID:e.2819.6363
SEQUENCE:3
DTSTAMP:20260425T223532Z
URL:http://business.barstowchamber.com/events/details/barstow-job-fair-and-hiring-event-clear-your-criminal-record-if-eligible-6363
END:VEVENT

END:VCALENDAR
