BEGIN:VCALENDAR
VERSION:2.0
PRODID:-//ChamberMaster//Event Calendar 2.0//EN
METHOD:PUBLISH
X-PUBLISHED-TTL:P3D
REFRESH-INTERVAL:P3D
CALSCALE:GREGORIAN
BEGIN:VEVENT
DTSTART:20220430T233000Z
DTEND:20220501T040000Z
X-MICROSOFT-CDO-ALLDAYEVENT:FALSE
SUMMARY:Annual Wine & Goods Auction by the Kiwanis Club of Barstow Crossroads
DESCRIPTION:The Kiwanis Club of Barstow Crossroads\n\nAnnual Wine & Goods Auction\n\n\n\nWine\, Spirits and Specialty Beer Tasting\, Dinner\, Live Auction and Prizes
X-ALT-DESC;FMTTYPE=text/html:<strong>The Kiwanis Club of Barstow Crossroads<br />\n<span style="font-size:16px\;">Annual Wine &amp\; Goods Auction</span></strong><br />\n<br />\nWine\, Spirits and Specialty Beer Tasting\, Dinner\, Live Auction and Prizes
LOCATION:Cora Harper Community Center 841 Barstow Road Barstow\, California 92311
UID:e.2819.6460
SEQUENCE:3
DTSTAMP:20260425T195437Z
URL:http://business.barstowchamber.com/events/details/annual-wine-goods-auction-by-the-kiwanis-club-of-barstow-crossroads-6460
END:VEVENT

END:VCALENDAR
