BEGIN:VCALENDAR
VERSION:2.0
PRODID:-//ChamberMaster//Event Calendar 2.0//EN
METHOD:PUBLISH
X-PUBLISHED-TTL:P3D
REFRESH-INTERVAL:P3D
CALSCALE:GREGORIAN
BEGIN:VEVENT
DTSTART:20220423T190000Z
DTEND:20220423T220000Z
X-MICROSOFT-CDO-ALLDAYEVENT:FALSE
SUMMARY:Annual Tea Party Fundraiser
DESCRIPTION:New Hope Village & New Hope\, Too! present our \n\nAnnual Tea Party Fundraiser \n\nWe provide the food\, Iced & Hot Tea & Lemonade
X-ALT-DESC;FMTTYPE=text/html:New Hope Village &amp\; New Hope\, Too! present our&nbsp\;<br />\n<span style="font-size:18px\;"><strong>Annual Tea Party Fundraiser&nbsp\;</strong></span><br />\nWe provide the food\, Iced &amp\; Hot Tea &amp\; Lemonade
LOCATION:Hampton Inn 2710 Lenwood Road Barstow\, California 92311
UID:e.2819.6465
SEQUENCE:3
DTSTAMP:20260422T181731Z
URL:http://business.barstowchamber.com/events/details/annual-tea-party-fundraiser-6465
END:VEVENT

END:VCALENDAR
