BEGIN:VCALENDAR
VERSION:2.0
PRODID:-//ChamberMaster//Event Calendar 2.0//EN
METHOD:PUBLISH
X-PUBLISHED-TTL:P3D
REFRESH-INTERVAL:P3D
CALSCALE:GREGORIAN
BEGIN:VEVENT
DTSTART:20220409T160000Z
DTEND:20220410T010000Z
X-MICROSOFT-CDO-ALLDAYEVENT:FALSE
SUMMARY:Annual New Mexico Chili Cook Off & Belen Fiesta
DESCRIPTION:The Chili of New Mexico is legendary.\n\nAll over the world\, people know about it!\n\nPlease enjoy the Belen Fiesta Days in honor of all the folks that come to the High Desert from Belen\, New Mexico\, Bartow's "Sister City"\n\n\n\n!Gracias!
X-ALT-DESC;FMTTYPE=text/html:The Chili of New Mexico is legendary.<br />\nAll over the world\, people know about it!<br />\nPlease enjoy the Belen Fiesta Days in honor of all the folks that come to the High Desert from Belen\, New Mexico\,&nbsp\;Bartow&#39\;s &quot\;Sister City&quot\;<br />\n<br />\n!Gracias!
LOCATION:Foglesong Park Barstow\, California
UID:e.2819.6459
SEQUENCE:3
DTSTAMP:20260423T214031Z
URL:http://business.barstowchamber.com/events/details/annual-new-mexico-chili-cook-off-belen-fiesta-6459
END:VEVENT

END:VCALENDAR
